BEGIN:VCALENDAR
PRODID:-//eluceo/ical//2.0/EN
VERSION:2.0
CALSCALE:GREGORIAN
BEGIN:VEVENT
UID:aa15718dfec26ee61a1c944032e971b4
DTSTAMP:20260423T184201Z
SUMMARY:Congregation Beth Israel World Wide Rap Day
DESCRIPTION:Jewish Federation of Central Massachusetts\nCalendar\nhttps://j
 ewishcentralmass.org/calendar/17cal156\n\nCongregation Beth Israel World W
 ide Rap Day
DTSTART;TZID=America/New_York:20170205T091500
DTEND;TZID=America/New_York:20170205T114500
END:VEVENT
END:VCALENDAR
