BEGIN:VCALENDAR
PRODID:-//eluceo/ical//2.0/EN
VERSION:2.0
CALSCALE:GREGORIAN
BEGIN:VEVENT
UID:069a5f404cf41e261f84bea143c2b310
DTSTAMP:20260422T233346Z
SUMMARY:Congregation Beth Israel Scholar in Res
DESCRIPTION:Jewish Federation of Central Massachusetts\nCalendar\nhttps://j
 ewishcentralmass.org/calendar/17cal155\n\nCongregation Beth Israel Scholar
  in Res
DTSTART;TZID=America/New_York:20161209T000100
DTEND;TZID=America/New_York:20161211T235900
END:VEVENT
END:VCALENDAR
