BEGIN:VCALENDAR
PRODID:-//eluceo/ical//2.0/EN
VERSION:2.0
CALSCALE:GREGORIAN
BEGIN:VEVENT
UID:182573020fe8f89b0d6d3fb98ee9fcf5
DTSTAMP:20260422T233055Z
SUMMARY:Congregation Beth Israel Purim
DESCRIPTION:Jewish Federation of Central Massachusetts\nCalendar\nhttps://j
 ewishcentralmass.org/calendar/17cal154\n\nCongregation Beth Israel Purim
DTSTART;TZID=America/New_York:20170311T210000
DTEND;TZID=America/New_York:20170311T220000
END:VEVENT
END:VCALENDAR
