BEGIN:VCALENDAR
PRODID:-//eluceo/ical//2.0/EN
VERSION:2.0
CALSCALE:GREGORIAN
BEGIN:VEVENT
UID:a7fe125fef2ed2640cb2a2041c79c6b9
DTSTAMP:20260422T112820Z
SUMMARY:Congregation Beth Israel Member Picnic
DESCRIPTION:Jewish Federation of Central Massachusetts\nCalendar\nhttps://j
 ewishcentralmass.org/calendar/17cal153\n\nCongregation Beth Israel Member 
 Picnic
DTSTART;TZID=America/New_York:20160828T160000
DTEND;TZID=America/New_York:20160828T200000
END:VEVENT
END:VCALENDAR
