BEGIN:VCALENDAR
PRODID:-//eluceo/ical//2.0/EN
VERSION:2.0
CALSCALE:GREGORIAN
BEGIN:VEVENT
UID:a15ccad9d0c54dcd9522c6f16b6d5fd7
DTSTAMP:20260423T083618Z
SUMMARY:Congregation Beth Israel Member Event
DESCRIPTION:Jewish Federation of Central Massachusetts\nCalendar\nhttps://j
 ewishcentralmass.org/calendar/17cal152\n\nCongregation Beth Israel Member 
 Event
DTSTART;TZID=America/New_York:20170603T210000
DTEND;TZID=America/New_York:20170603T230000
END:VEVENT
END:VCALENDAR
