BEGIN:VCALENDAR
PRODID:-//eluceo/ical//2.0/EN
VERSION:2.0
CALSCALE:GREGORIAN
BEGIN:VEVENT
UID:952af8dc82457b94b66c22210225bd86
DTSTAMP:20260422T060306Z
SUMMARY:Congregation Beth Israel Inclusion Shabbat
DESCRIPTION:Jewish Federation of Central Massachusetts\nCalendar\nhttps://j
 ewishcentralmass.org/calendar/17cal151\n\nCongregation Beth Israel Inclusi
 on Shabbat
DTSTART;TZID=America/New_York:20170210T190000
DTEND;TZID=America/New_York:20170211T120000
END:VEVENT
END:VCALENDAR
