BEGIN:VCALENDAR
PRODID:-//eluceo/ical//2.0/EN
VERSION:2.0
CALSCALE:GREGORIAN
BEGIN:VEVENT
UID:bc70126ba295cc7b41111cdb07ff9383
DTSTAMP:20260422T100457Z
SUMMARY:Congregation Beth Israel Go Red Shabbat
DESCRIPTION:Jewish Federation of Central Massachusetts\nCalendar\nhttps://j
 ewishcentralmass.org/calendar/17cal149\n\nCongregation Beth Israel Go Red 
 Shabbat
DTSTART;TZID=America/New_York:20170204T090000
DTEND;TZID=America/New_York:20170204T120000
END:VEVENT
END:VCALENDAR
