BEGIN:VCALENDAR
PRODID:-//eluceo/ical//2.0/EN
VERSION:2.0
CALSCALE:GREGORIAN
BEGIN:VEVENT
UID:27e0f0535d64a820d9c638b5c4fe3fdb
DTSTAMP:20260422T172111Z
SUMMARY:Congregation Beth Israel Family Fall Membership Event
DESCRIPTION:Jewish Federation of Central Massachusetts\nCalendar\nhttps://j
 ewishcentralmass.org/calendar/17cal148\n\nCongregation Beth Israel Family 
 Fall Membership Event
DTSTART;TZID=America/New_York:20161029T183000
DTEND;TZID=America/New_York:20161029T210000
END:VEVENT
END:VCALENDAR
