BEGIN:VCALENDAR
PRODID:-//eluceo/ical//2.0/EN
VERSION:2.0
CALSCALE:GREGORIAN
BEGIN:VEVENT
UID:d1bcce95f5c06b5b9c5413270eb9adee
DTSTAMP:20260424T095207Z
SUMMARY:Congregation Beth Israel Brotherhood BBQ
DESCRIPTION:Jewish Federation of Central Massachusetts\nCalendar\nhttps://j
 ewishcentralmass.org/calendar/17cal146\n\nCongregation Beth Israel Brother
 hood BBQ
DTSTART;TZID=America/New_York:20160817T173000
DTEND;TZID=America/New_York:20160817T200000
END:VEVENT
END:VCALENDAR
