BEGIN:VCALENDAR
PRODID:-//eluceo/ical//2.0/EN
VERSION:2.0
CALSCALE:GREGORIAN
BEGIN:VEVENT
UID:c907d2a4766a76ee040a7cc76a7a49e6
DTSTAMP:20260423T083533Z
SUMMARY:Congregation Beth Israel Board Meeting
DESCRIPTION:Jewish Federation of Central Massachusetts\nCalendar\nhttps://j
 ewishcentralmass.org/calendar/17cal142\n\nCongregation Beth Israel Board M
 eeting
DTSTART;TZID=America/New_York:20170323T193000
DTEND;TZID=America/New_York:20170323T210000
END:VEVENT
END:VCALENDAR
