BEGIN:VCALENDAR
PRODID:-//eluceo/ical//2.0/EN
VERSION:2.0
CALSCALE:GREGORIAN
BEGIN:VEVENT
UID:d29653b691ab2c480e989572918c0f5d
DTSTAMP:20260424T042432Z
SUMMARY:Congregation Beth Israel Board Meeting
DESCRIPTION:Jewish Federation of Central Massachusetts\nCalendar\nhttps://j
 ewishcentralmass.org/calendar/17cal138\n\nCongregation Beth Israel Board M
 eeting
DTSTART;TZID=America/New_York:20161117T193000
DTEND;TZID=America/New_York:20161117T210000
END:VEVENT
END:VCALENDAR
