BEGIN:VCALENDAR
PRODID:-//eluceo/ical//2.0/EN
VERSION:2.0
CALSCALE:GREGORIAN
BEGIN:VEVENT
UID:f4ec8e548ba138cba578edde410dada5
DTSTAMP:20260420T145519Z
SUMMARY:Congregation Beth Israel Board Meeting
DESCRIPTION:Jewish Federation of Central Massachusetts\nCalendar\nhttps://j
 ewishcentralmass.org/calendar/17cal137\n\nCongregation Beth Israel Board M
 eeting
DTSTART;TZID=America/New_York:20161027T193000
DTEND;TZID=America/New_York:20161027T210000
END:VEVENT
END:VCALENDAR
