BEGIN:VCALENDAR
PRODID:-//eluceo/ical//2.0/EN
VERSION:2.0
CALSCALE:GREGORIAN
BEGIN:VEVENT
UID:6553a44af829c7f344428b0b5e17e409
DTSTAMP:20260423T030954Z
SUMMARY:Congregation Beth Israel Board Meeting
DESCRIPTION:Jewish Federation of Central Massachusetts\nCalendar\nhttps://j
 ewishcentralmass.org/calendar/17cal136\n\nCongregation Beth Israel Board M
 eeting
DTSTART;TZID=America/New_York:20160922T193000
DTEND;TZID=America/New_York:20160922T210000
END:VEVENT
END:VCALENDAR
