BEGIN:VCALENDAR
PRODID:-//eluceo/ical//2.0/EN
VERSION:2.0
CALSCALE:GREGORIAN
BEGIN:VEVENT
UID:8b5b3416bddc3bd73dc913510099c159
DTSTAMP:20260422T233115Z
SUMMARY:Congregation Beth Israel Annual Meeting
DESCRIPTION:Jewish Federation of Central Massachusetts\nCalendar\nhttps://j
 ewishcentralmass.org/calendar/17cal134\n\nCongregation Beth Israel Annual 
 Meeting
DTSTART;TZID=America/New_York:20170614T193000
DTEND;TZID=America/New_York:20170614T213000
END:VEVENT
END:VCALENDAR
