BEGIN:VCALENDAR
PRODID:-//eluceo/ical//2.0/EN
VERSION:2.0
CALSCALE:GREGORIAN
BEGIN:VEVENT
UID:9bd9d5c8691ac8a9ec568acf0a0f76bb
DTSTAMP:20260421T111147Z
SUMMARY:Community Wide Yom Hashoah Commemoration
DESCRIPTION:Jewish Federation of Central Massachusetts\nCalendar\nhttps://j
 ewishcentralmass.org/calendar/17cal133\n\nCommunity Wide Yom Hashoah Comme
 moration
DTSTART;TZID=America/New_York:20170423T173000
DTEND;TZID=America/New_York:20170423T190000
END:VEVENT
END:VCALENDAR
