BEGIN:VCALENDAR
PRODID:-//eluceo/ical//2.0/EN
VERSION:2.0
CALSCALE:GREGORIAN
BEGIN:VEVENT
UID:d7810ed9bd5b6af6692775162758021d
DTSTAMP:20260422T091223Z
SUMMARY:Congregation Bnai Shalom Purim Carnival
DESCRIPTION:Jewish Federation of Central Massachusetts\nCalendar\nhttps://j
 ewishcentralmass.org/calendar/17cal132\n\nCongregation Bnai Shalom Purim C
 arnival
DTSTART;TZID=America/New_York:20170312T113000
DTEND;TZID=America/New_York:20170312T140000
END:VEVENT
END:VCALENDAR
