BEGIN:VCALENDAR
PRODID:-//eluceo/ical//2.0/EN
VERSION:2.0
CALSCALE:GREGORIAN
BEGIN:VEVENT
UID:5025986b7539c92b0cbc5dd64e9a063e
DTSTAMP:20260422T221434Z
SUMMARY:CBS / BI / BT Community Interfaith Thanksgiving
DESCRIPTION:Jewish Federation of Central Massachusetts\nCalendar\nhttps://j
 ewishcentralmass.org/calendar/17cal131\n\nCBS / BI / BT Community Interfai
 th Thanksgiving
DTSTART;TZID=America/New_York:20161122T000000
DTEND;TZID=America/New_York:20161122T000000
END:VEVENT
END:VCALENDAR
