BEGIN:VCALENDAR
PRODID:-//eluceo/ical//2.0/EN
VERSION:2.0
CALSCALE:GREGORIAN
BEGIN:VEVENT
UID:29ead8c5fc0efcc2534261b16f138303
DTSTAMP:20260423T020217Z
SUMMARY:BT & BI Souper Bowl
DESCRIPTION:Jewish Federation of Central Massachusetts\nCalendar\nhttps://j
 ewishcentralmass.org/calendar/17cal130\n\nBT & BI Souper Bowl
DTSTART;TZID=America/New_York:20170205T091500
DTEND;TZID=America/New_York:20170205T120000
END:VEVENT
END:VCALENDAR
