BEGIN:VCALENDAR
PRODID:-//eluceo/ical//2.0/EN
VERSION:2.0
CALSCALE:GREGORIAN
BEGIN:VEVENT
UID:65f65fc0683c7f747f920d73fae91607
DTSTAMP:20260424T063846Z
SUMMARY:Beth Tikvah Woman's Shabbat Service
DESCRIPTION:Jewish Federation of Central Massachusetts\nCalendar\nhttps://j
 ewishcentralmass.org/calendar/17cal129\n\nBeth Tikvah Woman's Shabbat Serv
 ice
DTSTART;TZID=America/New_York:20170318T093000
DTEND;TZID=America/New_York:20170318T120000
END:VEVENT
END:VCALENDAR
