BEGIN:VCALENDAR
PRODID:-//eluceo/ical//2.0/EN
VERSION:2.0
CALSCALE:GREGORIAN
BEGIN:VEVENT
UID:b1b59e4e9320c50ceb04ef0b6f169bfe
DTSTAMP:20260421T072400Z
SUMMARY:Beth Tikvah Trivia Night
DESCRIPTION:Jewish Federation of Central Massachusetts\nCalendar\nhttps://j
 ewishcentralmass.org/calendar/17cal127\n\nBeth Tikvah Trivia Night
DTSTART;TZID=America/New_York:20170408T180000
DTEND;TZID=America/New_York:20170408T220000
END:VEVENT
END:VCALENDAR
