BEGIN:VCALENDAR
PRODID:-//eluceo/ical//2.0/EN
VERSION:2.0
CALSCALE:GREGORIAN
BEGIN:VEVENT
UID:da8b1a3388218f4611bf1043c16c261d
DTSTAMP:20260423T235424Z
SUMMARY:Beth Tikvah Sukkot Family Dinner
DESCRIPTION:Jewish Federation of Central Massachusetts\nCalendar\nhttps://j
 ewishcentralmass.org/calendar/17cal126\n\nBeth Tikvah Sukkot Family Dinner
DTSTART;TZID=America/New_York:20161019T173000
DTEND;TZID=America/New_York:20161019T193000
END:VEVENT
END:VCALENDAR
