BEGIN:VCALENDAR
PRODID:-//eluceo/ical//2.0/EN
VERSION:2.0
CALSCALE:GREGORIAN
BEGIN:VEVENT
UID:e2703e61861342a56ad177b1bff96dc0
DTSTAMP:20260421T064117Z
SUMMARY:BT & CBS joint Scout Shabbat Service
DESCRIPTION:Jewish Federation of Central Massachusetts\nCalendar\nhttps://j
 ewishcentralmass.org/calendar/17cal125\n\nBeth Tikvah Scout Shabbat Servic
 e
DTSTART;TZID=America/New_York:20170203T184500
DTEND;TZID=America/New_York:20170203T210000
END:VEVENT
END:VCALENDAR
