BEGIN:VCALENDAR
PRODID:-//eluceo/ical//2.0/EN
VERSION:2.0
CALSCALE:GREGORIAN
BEGIN:VEVENT
UID:b781500db0d8843833b8f66b02dedd02
DTSTAMP:20260422T214504Z
SUMMARY:Beth Tikvah Purim 20th Anniversary
DESCRIPTION:Jewish Federation of Central Massachusetts\nCalendar\nhttps://j
 ewishcentralmass.org/calendar/17cal124\n\nBeth Tikvah Purim 20th Anniversa
 ry
DTSTART;TZID=America/New_York:20170311T180000
DTEND;TZID=America/New_York:20170311T210000
END:VEVENT
END:VCALENDAR
