BEGIN:VCALENDAR
PRODID:-//eluceo/ical//2.0/EN
VERSION:2.0
CALSCALE:GREGORIAN
BEGIN:VEVENT
UID:0669b3beed8edaff28d51c1a71966ed8
DTSTAMP:20260422T010305Z
SUMMARY:Beth Tikvah Progressive Dinner
DESCRIPTION:Jewish Federation of Central Massachusetts\nCalendar\nhttps://j
 ewishcentralmass.org/calendar/17cal123\n\nBeth Tikvah Progressive Dinner
DTSTART;TZID=America/New_York:20170429T180000
DTEND;TZID=America/New_York:20170429T200000
END:VEVENT
END:VCALENDAR
