BEGIN:VCALENDAR
PRODID:-//eluceo/ical//2.0/EN
VERSION:2.0
CALSCALE:GREGORIAN
BEGIN:VEVENT
UID:526e3f0ce16237ed4e39aa1eabe8f129
DTSTAMP:20260423T022631Z
SUMMARY:Beth Tikvah Latke & LoMein
DESCRIPTION:Jewish Federation of Central Massachusetts\nCalendar\nhttps://j
 ewishcentralmass.org/calendar/17cal122\n\nBeth Tikvah Latke & LoMein
DTSTART;TZID=America/New_York:20161225T170000
DTEND;TZID=America/New_York:20161225T210000
END:VEVENT
END:VCALENDAR
