BEGIN:VCALENDAR
PRODID:-//eluceo/ical//2.0/EN
VERSION:2.0
CALSCALE:GREGORIAN
BEGIN:VEVENT
UID:dee8bdac03e1b1b430f2e871c9ecd064
DTSTAMP:20260422T214702Z
SUMMARY:Beth Tikvah First Day of Hebrew School
DESCRIPTION:Jewish Federation of Central Massachusetts\nCalendar\nhttps://j
 ewishcentralmass.org/calendar/17cal121\n\nBeth Tikvah First Day of Hebrew 
 School
DTSTART;TZID=America/New_York:20160918T090000
DTEND;TZID=America/New_York:20160918T120000
END:VEVENT
END:VCALENDAR
