BEGIN:VCALENDAR
PRODID:-//eluceo/ical//2.0/EN
VERSION:2.0
CALSCALE:GREGORIAN
BEGIN:VEVENT
UID:dccd472fc18c28abc1776bac4d35f799
DTSTAMP:20260424T095300Z
SUMMARY:Beth Tikvah Board Meeting
DESCRIPTION:Jewish Federation of Central Massachusetts\nCalendar\nhttps://j
 ewishcentralmass.org/calendar/17cal119\n\nBeth Tikvah Board Meeting
DTSTART;TZID=America/New_York:20170405T193000
DTEND;TZID=America/New_York:20170405T193000
END:VEVENT
END:VCALENDAR
