BEGIN:VCALENDAR
PRODID:-//eluceo/ical//2.0/EN
VERSION:2.0
CALSCALE:GREGORIAN
BEGIN:VEVENT
UID:2eeb7774d3da3635c9d21cbb49c1d234
DTSTAMP:20260424T013337Z
SUMMARY:Beth Tikvah Board Meeting
DESCRIPTION:Jewish Federation of Central Massachusetts\nCalendar\nhttps://j
 ewishcentralmass.org/calendar/17cal118\n\nBeth Tikvah Board Meeting
DTSTART;TZID=America/New_York:20160928T190000
DTEND;TZID=America/New_York:20160928T210000
END:VEVENT
END:VCALENDAR
