BEGIN:VCALENDAR
PRODID:-//eluceo/ical//2.0/EN
VERSION:2.0
CALSCALE:GREGORIAN
BEGIN:VEVENT
UID:207ab6c333db6b60e458fcf4200972ef
DTSTAMP:20260423T084618Z
SUMMARY:Beth Tikvah Bingo Event
DESCRIPTION:Jewish Federation of Central Massachusetts\nCalendar\nhttps://j
 ewishcentralmass.org/calendar/17cal116\n\nBeth Tikvah Bingo Event
DTSTART;TZID=America/New_York:20170513T183000
DTEND;TZID=America/New_York:20170513T213000
END:VEVENT
END:VCALENDAR
