BEGIN:VCALENDAR
PRODID:-//eluceo/ical//2.0/EN
VERSION:2.0
CALSCALE:GREGORIAN
BEGIN:VEVENT
UID:4a515c6d17f7f9ce78f4333613e14911
DTSTAMP:20260423T143944Z
SUMMARY:Beth Tikvah Bingo Event
DESCRIPTION:Jewish Federation of Central Massachusetts\nCalendar\nhttps://j
 ewishcentralmass.org/calendar/17cal115\n\nBeth Tikvah Bingo Event
DTSTART;TZID=America/New_York:20161105T180000
DTEND;TZID=America/New_York:20161105T210000
END:VEVENT
END:VCALENDAR
