BEGIN:VCALENDAR
PRODID:-//eluceo/ical//2.0/EN
VERSION:2.0
CALSCALE:GREGORIAN
BEGIN:VEVENT
UID:77626082eed2da499e39c4caf3349dd2
DTSTAMP:20260422T184716Z
SUMMARY:Beth Tikvah Annual Meeting
DESCRIPTION:Jewish Federation of Central Massachusetts\nCalendar\nhttps://j
 ewishcentralmass.org/calendar/17cal114\n\nBeth Tikvah AnnualMeeting
DTSTART;TZID=America/New_York:20170521T100000
DTEND;TZID=America/New_York:20170521T120000
END:VEVENT
END:VCALENDAR
