BEGIN:VCALENDAR
PRODID:-//eluceo/ical//2.0/EN
VERSION:2.0
CALSCALE:GREGORIAN
BEGIN:VEVENT
UID:0927cc773c62078f275d0b2b8b42f8df
DTSTAMP:20260423T061346Z
SUMMARY:Beth Israel Succah Decorating
DESCRIPTION:Jewish Federation of Central Massachusetts\nCalendar\nhttps://j
 ewishcentralmass.org/calendar/17cal112\n\nBeth Israel Succah Decorating
DTSTART;TZID=America/New_York:20161009T093000
DTEND;TZID=America/New_York:20161009T110000
END:VEVENT
END:VCALENDAR
