BEGIN:VCALENDAR
PRODID:-//eluceo/ical//2.0/EN
VERSION:2.0
CALSCALE:GREGORIAN
BEGIN:VEVENT
UID:904f67f363516052f76df823e017d97a
DTSTAMP:20260423T100950Z
SUMMARY:Beth Israel Lag Ba'Omer Community Event
DESCRIPTION:Jewish Federation of Central Massachusetts\nCalendar\nhttps://j
 ewishcentralmass.org/calendar/17cal110\n\nBeth Israel Lag Ba'Omer Communit
 y Event
DTSTART;TZID=America/New_York:20170514T160000
DTEND;TZID=America/New_York:20170514T180000
END:VEVENT
END:VCALENDAR
