BEGIN:VCALENDAR
PRODID:-//eluceo/ical//2.0/EN
VERSION:2.0
CALSCALE:GREGORIAN
BEGIN:VEVENT
UID:40941e4efb442e2777602b00f896fb88
DTSTAMP:20260424T035527Z
SUMMARY:Beth Israel First Day of Hebrew School
DESCRIPTION:Jewish Federation of Central Massachusetts\nCalendar\nhttps://j
 ewishcentralmass.org/calendar/17cal109\n\nBeth Israel First Day of Hebrew 
 School
DTSTART;TZID=America/New_York:20160907T160000
DTEND;TZID=America/New_York:20160907T180000
END:VEVENT
END:VCALENDAR
