BEGIN:VCALENDAR
PRODID:-//eluceo/ical//2.0/EN
VERSION:2.0
CALSCALE:GREGORIAN
BEGIN:VEVENT
UID:c893d852708b60930c9cbd69c041c8aa
DTSTAMP:20260422T200436Z
SUMMARY:Beth Israel Brotherhood Breakfast
DESCRIPTION:Jewish Federation of Central Massachusetts\nCalendar\nhttps://j
 ewishcentralmass.org/calendar/17cal107\n\nBeth Israel Brotherhood Breakfas
 t
DTSTART;TZID=America/New_York:20170521T093000
DTEND;TZID=America/New_York:20170521T110000
END:VEVENT
END:VCALENDAR
