BEGIN:VCALENDAR
PRODID:-//eluceo/ical//2.0/EN
VERSION:2.0
CALSCALE:GREGORIAN
BEGIN:VEVENT
UID:eba08d511041f7f581020bbfa74cbcbe
DTSTAMP:20260423T172337Z
SUMMARY:Beth Israel Brotherhood Breakfast
DESCRIPTION:Jewish Federation of Central Massachusetts\nCalendar\nhttps://j
 ewishcentralmass.org/calendar/17cal105\n\nBeth Israel Brotherhood Breakfas
 t
DTSTART;TZID=America/New_York:20170319T094500
DTEND;TZID=America/New_York:20170319T111500
END:VEVENT
END:VCALENDAR
