BEGIN:VCALENDAR
PRODID:-//eluceo/ical//2.0/EN
VERSION:2.0
CALSCALE:GREGORIAN
BEGIN:VEVENT
UID:71caf1a64b45c74a768aa0138ae19f14
DTSTAMP:20260423T021755Z
SUMMARY:Beth Israel Brotherhood Breakfast
DESCRIPTION:Jewish Federation of Central Massachusetts\nCalendar\nhttps://j
 ewishcentralmass.org/calendar/17cal104\n\nBeth Israel Brotherhood Breakfas
 t
DTSTART;TZID=America/New_York:20170108T093000
DTEND;TZID=America/New_York:20170108T111500
END:VEVENT
END:VCALENDAR
