BEGIN:VCALENDAR
PRODID:-//eluceo/ical//2.0/EN
VERSION:2.0
CALSCALE:GREGORIAN
BEGIN:VEVENT
UID:2db156bf06e4f68f2f64d2792b84cfe2
DTSTAMP:20260422T080914Z
SUMMARY:Beth Israel Brotherhood Breakfast
DESCRIPTION:Jewish Federation of Central Massachusetts\nCalendar\nhttps://j
 ewishcentralmass.org/calendar/17cal103\n\nBeth Israel Brotherhood Breakfas
 t
DTSTART;TZID=America/New_York:20161211T094500
DTEND;TZID=America/New_York:20161211T111500
END:VEVENT
END:VCALENDAR
