BEGIN:VCALENDAR
PRODID:-//eluceo/ical//2.0/EN
VERSION:2.0
CALSCALE:GREGORIAN
BEGIN:VEVENT
UID:2061c74e688314d6ec1a2d7cc792bbf3
DTSTAMP:20260421T171307Z
SUMMARY:Beth Israel Brotherhood Breakfast
DESCRIPTION:Jewish Federation of Central Massachusetts\nCalendar\nhttps://j
 ewishcentralmass.org/calendar/17cal102\n\nBeth Israel Brotherhood Breakfas
 t
DTSTART;TZID=America/New_York:20161106T093000
DTEND;TZID=America/New_York:20161106T110000
END:VEVENT
END:VCALENDAR
