BEGIN:VCALENDAR
PRODID:-//eluceo/ical//2.0/EN
VERSION:2.0
CALSCALE:GREGORIAN
BEGIN:VEVENT
UID:f006e3477b64440862e5e47495ceacba
DTSTAMP:20260422T221253Z
SUMMARY:Beth Israel Brotherhood Breakfast
DESCRIPTION:Jewish Federation of Central Massachusetts\nCalendar\nhttps://j
 ewishcentralmass.org/calendar/17cal101\n\nBeth Israel Brotherhood Breakfas
 t
DTSTART;TZID=America/New_York:20160925T093000
DTEND;TZID=America/New_York:20160925T093000
END:VEVENT
END:VCALENDAR
