BEGIN:VCALENDAR
PRODID:-//eluceo/ical//2.0/EN
VERSION:2.0
CALSCALE:GREGORIAN
BEGIN:VEVENT
UID:ac057453dffff7db8d5052288d6bc92a
DTSTAMP:20260423T004507Z
SUMMARY:Beth Israel Brotherhood Breakfast
DESCRIPTION:Jewish Federation of Central Massachusetts\nCalendar\nhttps://j
 ewishcentralmass.org/calendar/17cal100\n\nBeth Israel Brotherhood Breakfas
 t
DTSTART;TZID=America/New_York:20160911T093000
DTEND;TZID=America/New_York:20160911T110000
END:VEVENT
END:VCALENDAR
